BEGIN:VCALENDAR
VERSION:2.0
PRODID:-//UNICollaboration 2026 - ECPv6.15.16//NONSGML v1.0//EN
CALSCALE:GREGORIAN
METHOD:PUBLISH
X-WR-CALNAME:UNICollaboration 2026
X-ORIGINAL-URL:https://unicollaborationconference2026.org
X-WR-CALDESC:Events for UNICollaboration 2026
REFRESH-INTERVAL;VALUE=DURATION:PT1H
X-Robots-Tag:noindex
X-PUBLISHED-TTL:PT1H
BEGIN:VTIMEZONE
TZID:UTC
BEGIN:STANDARD
TZOFFSETFROM:+0000
TZOFFSETTO:+0000
TZNAME:UTC
DTSTART:20250101T000000
END:STANDARD
END:VTIMEZONE
BEGIN:VEVENT
DTSTART;TZID=UTC:20260603T000000
DTEND;TZID=UTC:20260603T000000
DTSTAMP:20260425T165545
CREATED:20260220T113637Z
LAST-MODIFIED:20260220T114037Z
UID:5823-1780444800-1780444800@unicollaborationconference2026.org
SUMMARY:Welcome Reception
DESCRIPTION:Evening
URL:https://unicollaborationconference2026.org/event/welcome-reception/
END:VEVENT
BEGIN:VEVENT
DTSTART;TZID=UTC:20260604T000000
DTEND;TZID=UTC:20260604T235900
DTSTAMP:20260425T165545
CREATED:20260220T115812Z
LAST-MODIFIED:20260220T122115Z
UID:5827-1780531200-1780617540@unicollaborationconference2026.org
SUMMARY:Opening & Welcome
DESCRIPTION:Morning
URL:https://unicollaborationconference2026.org/event/conference-day-1/
CATEGORIES:(Conference Day 1)
END:VEVENT
END:VCALENDAR